BEGIN:VCALENDAR
VERSION:2.0
PRODID:-//VolunteerWinnipeg//CommunityEvents//EN
CALSCALE:GREGORIAN
BEGIN:VEVENT
SUMMARY:Winnipeg Jets vs Nashville
DTSTAMP:20260420T214123Z
DTSTART:20260318T000000Z
DTEND:20260318T030000Z
LOCATION:Canada Life Centre
DESCRIPTION:<article class="prose prose-lg prose-indigo mx-auto">Cheer on t
 he **Winnipeg Jets** as they face off against the **Nashville** at Canada L
 ife Centre! Don't miss the fast-paced action and electric atmosphere of NHL
  hockey.\n\n**Venue:** Canada Life Centre\n**Doors Open:** Typically 60 min
 utes before puck drop.</article>
URL:https://volunteeringwinnipeg.ca/events/winnipeg-jets-vs-nashville/
UID:event-51@volunteeringwinnipeg.ca
END:VEVENT
END:VCALENDAR