BEGIN:VCALENDAR
VERSION:2.0
PRODID:-//VolunteerWinnipeg//CommunityEvents//EN
CALSCALE:GREGORIAN
BEGIN:VEVENT
SUMMARY:Winnipeg Jets vs Vancouver
DTSTAMP:20260423T030518Z
DTSTART:20260308T000000Z
DTEND:20260308T030000Z
LOCATION:Canada Life Centre
DESCRIPTION:<article class="prose prose-lg prose-indigo mx-auto">Cheer on t
 he **Winnipeg Jets** as they face off against the **Vancouver** at Canada L
 ife Centre! Don't miss the fast-paced action and electric atmosphere of NHL
  hockey.\n\n**Venue:** Canada Life Centre\n**Doors Open:** Typically 60 min
 utes before puck drop.</article>
URL:https://volunteeringwinnipeg.ca/events/winnipeg-jets-vs-vancouver/
UID:event-56@volunteeringwinnipeg.ca
END:VEVENT
END:VCALENDAR