BEGIN:VCALENDAR
VERSION:2.0
PRODID:-//VolunteerWinnipeg//CommunityEvents//EN
CALSCALE:GREGORIAN
BEGIN:VEVENT
SUMMARY:Winnipeg Jets vs Vegas
DTSTAMP:20260421T033505Z
DTSTART:20260325T000000Z
DTEND:20260325T030000Z
LOCATION:Canada Life Centre
DESCRIPTION:<article class="prose prose-lg prose-indigo mx-auto">Cheer on t
 he **Winnipeg Jets** as they face off against the **Vegas** at Canada Life 
 Centre! Don't miss the fast-paced action and electric atmosphere of NHL hoc
 key.\n\n**Venue:** Canada Life Centre\n**Doors Open:** Typically 60 minutes
  before puck drop.</article>
URL:https://volunteeringwinnipeg.ca/events/winnipeg-jets-vs-vegas/
UID:event-50@volunteeringwinnipeg.ca
END:VEVENT
END:VCALENDAR