BEGIN:VCALENDAR
VERSION:2.0
PRODID:-//VolunteerWinnipeg//CommunityEvents//EN
CALSCALE:GREGORIAN
BEGIN:VEVENT
SUMMARY:Manitoba Moose vs Iowa
DTSTAMP:20260423T105110Z
DTSTART:20260221T060000Z
DTEND:20260221T060000Z
LOCATION:Canada Life Centre
DESCRIPTION:<article class="prose prose-lg prose-indigo mx-auto">Manitoba M
 oose home game against Iowa.</article>
URL:https://volunteeringwinnipeg.ca/fr/evenements/manitoba-moose-vs-iowa-1/
UID:event-61@volunteeringwinnipeg.ca
END:VEVENT
END:VCALENDAR