BEGIN:VCALENDAR
VERSION:2.0
PRODID:-//VolunteerWinnipeg//CommunityEvents//EN
CALSCALE:GREGORIAN
BEGIN:VEVENT
SUMMARY:Manitoba Moose vs WILD
DTSTAMP:20260423T105647Z
DTSTART:20260221T060000Z
DTEND:20260221T060000Z
LOCATION:Canada Life Centre
DESCRIPTION:Manitoba Moose home game against WILD. Tickets available at htt
 ps://www.ticketmaster.ca/event/110063138EEB2679?_ga=2.84936927.710835211.17
 56150150-1694091384.1754403543&_gl=1*rkfbu9*_gcl_au*MTYwNDk4ODk0Ni4xNzU0NDA
 zNTQz*_ga*MTY5NDA5MTM4NC4xNzU0NDAzNTQz*_ga_T6ZPDCHRC8*czE3NTYzMjU3MDIkbzM0J
 GcxJHQxNzU2MzI1NzMzJGoyOSRsMCRoMA..
URL:https://volunteeringwinnipeg.ca/fr/evenements/manitoba-moose-vs-wild/
UID:event-62@volunteeringwinnipeg.ca
END:VEVENT
END:VCALENDAR