BEGIN:VCALENDAR
VERSION:2.0
PRODID:-//VolunteerWinnipeg//CommunityEvents//EN
CALSCALE:GREGORIAN
BEGIN:VEVENT
SUMMARY:Winnipeg Jets vs Anaheim
DTSTAMP:20260423T160509Z
DTSTART:20260311T003000Z
DTEND:20260311T033000Z
LOCATION:Canada Life Centre
DESCRIPTION:<article class="prose prose-lg prose-indigo mx-auto">Cheer on t
 he **Winnipeg Jets** as they face off against the **Anaheim** at Canada Lif
 e Centre! Don't miss the fast-paced action and electric atmosphere of NHL h
 ockey.\n\n**Venue:** Canada Life Centre\n**Doors Open:** Typically 60 minut
 es before puck drop.</article>
URL:https://volunteeringwinnipeg.ca/fr/evenements/winnipeg-jets-vs-anaheim/
UID:event-55@volunteeringwinnipeg.ca
END:VEVENT
END:VCALENDAR