BEGIN:VCALENDAR
VERSION:2.0
PRODID:-//VolunteerWinnipeg//CommunityEvents//EN
CALSCALE:GREGORIAN
BEGIN:VEVENT
SUMMARY:Winnipeg Jets vs Colorado
DTSTAMP:20260420T212532Z
DTSTART:20260327T000000Z
DTEND:20260327T030000Z
LOCATION:Canada Life Centre
DESCRIPTION:<article class="prose prose-lg prose-indigo mx-auto">Cheer on t
 he **Winnipeg Jets** as they face off against the **Colorado** at Canada Li
 fe Centre! Don't miss the fast-paced action and electric atmosphere of NHL 
 hockey.\n\n**Venue:** Canada Life Centre\n**Doors Open:** Typically 60 minu
 tes before puck drop.</article>
URL:https://volunteeringwinnipeg.ca/fr/evenements/winnipeg-jets-vs-colorado
 /
UID:event-49@volunteeringwinnipeg.ca
END:VEVENT
END:VCALENDAR