BEGIN:VCALENDAR
VERSION:2.0
PRODID:-//VolunteerWinnipeg//CommunityEvents//EN
CALSCALE:GREGORIAN
BEGIN:VEVENT
SUMMARY:Winnipeg Jets vs Philadelphia
DTSTAMP:20260420T212603Z
DTSTART:20260411T230000Z
DTEND:20260412T020000Z
LOCATION:Canada Life Centre
DESCRIPTION:<article class="prose prose-lg prose-indigo mx-auto">Cheer on t
 he **Winnipeg Jets** as they face off against the **Philadelphia** at Canad
 a Life Centre! Don't miss the fast-paced action and electric atmosphere of 
 NHL hockey.\n\n**Venue:** Canada Life Centre\n**Doors Open:** Typically 60 
 minutes before puck drop.</article>
URL:https://volunteeringwinnipeg.ca/fr/evenements/winnipeg-jets-vs-philadel
 phia/
UID:event-47@volunteeringwinnipeg.ca
END:VEVENT
END:VCALENDAR