BEGIN:VCALENDAR
VERSION:2.0
PRODID:-//VolunteerWinnipeg//CommunityEvents//EN
CALSCALE:GREGORIAN
BEGIN:VEVENT
SUMMARY:Winnipeg Jets vs Seattle
DTSTAMP:20260420T212510Z
DTSTART:20260406T233000Z
DTEND:20260407T023000Z
LOCATION:Canada Life Centre
DESCRIPTION:<article class="prose prose-lg prose-indigo mx-auto">Cheer on t
 he **Winnipeg Jets** as they face off against the **Seattle** at Canada Lif
 e Centre! Don't miss the fast-paced action and electric atmosphere of NHL h
 ockey.\n\n**Venue:** Canada Life Centre\n**Doors Open:** Typically 60 minut
 es before puck drop.</article>
URL:https://volunteeringwinnipeg.ca/fr/evenements/winnipeg-jets-vs-seattle/
UID:event-48@volunteeringwinnipeg.ca
END:VEVENT
END:VCALENDAR