BEGIN:VCALENDAR
VERSION:2.0
PRODID:-//VolunteerWinnipeg//CommunityEvents//EN
CALSCALE:GREGORIAN
BEGIN:VEVENT
SUMMARY:Winnipeg Jets vs St. Louis
DTSTAMP:20260420T211249Z
DTSTART:20260315T190000Z
DTEND:20260315T220000Z
LOCATION:Canada Life Centre
DESCRIPTION:<article class="prose prose-lg prose-indigo mx-auto">Cheer on t
 he **Winnipeg Jets** as they face off against the **St. Louis** at Canada L
 ife Centre! Don't miss the fast-paced action and electric atmosphere of NHL
  hockey.\n\n**Venue:** Canada Life Centre\n**Doors Open:** Typically 60 min
 utes before puck drop.</article>
URL:https://volunteeringwinnipeg.ca/fr/evenements/winnipeg-jets-vs-st-louis
 /
UID:event-52@volunteeringwinnipeg.ca
END:VEVENT
END:VCALENDAR