BEGIN:VCALENDAR
VERSION:2.0
PRODID:-//VolunteerWinnipeg//CommunityEvents//EN
CALSCALE:GREGORIAN
BEGIN:VEVENT
SUMMARY:Winnipeg Jets vs Tampa Bay
DTSTAMP:20260423T074749Z
DTSTART:20260306T010000Z
DTEND:20260306T040000Z
LOCATION:Canada Life Centre
DESCRIPTION:<article class="prose prose-lg prose-indigo mx-auto">Cheer on t
 he **Winnipeg Jets** as they face off against the **Tampa Bay** at Canada L
 ife Centre! Don't miss the fast-paced action and electric atmosphere of NHL
  hockey.\n\n**Venue:** Canada Life Centre\n**Doors Open:** Typically 60 min
 utes before puck drop.</article>
URL:https://volunteeringwinnipeg.ca/fr/evenements/winnipeg-jets-vs-tampa-ba
 y/
UID:event-57@volunteeringwinnipeg.ca
END:VEVENT
END:VCALENDAR